BEGIN:VCALENDAR
METHOD:PUBLISH
VERSION:2.0
CALSCALE:GREGORIAN
PRODID:-//NONSGML WPForms//NONSGML Sugar Calendar Feeds v3.10.0//EN
X-WR-CALNAME:Luzerne County SENIOR EXPO
X-WR-CALDESC:Friedman JCC
X-WR-TIMEZONE:America/New_York
BEGIN:VTIMEZONE
TZID:America/New_York
BEGIN:DAYLIGHT
TZOFFSETFROM:-0400
TZOFFSETTO:-0400
DTSTART:20240327T220000
TZNAME:EDT
END:DAYLIGHT
END:VTIMEZONE
BEGIN:VTIMEZONE
TZID:America/New_York
BEGIN:DAYLIGHT
TZOFFSETFROM:-0400
TZOFFSETTO:-0400
DTSTART:20240327T220000
TZNAME:EDT
END:DAYLIGHT
END:VTIMEZONE
BEGIN:VEVENT
SUMMARY:Luzerne County SENIOR EXPO
DESCRIPTION:
URL;VALUE=URI:https://friedmanjcc.org/events/luzerne-county-senior-expo/
UID:urn:uuid:15a6464c-cd03-4b76-ab44-59645111083b
STATUS:CONFIRMED
ORGANIZER:
DTSTAMP:20260421T031223Z
DTSTART;TZID=America/New_York:20240926T100000
DTEND;TZID=America/New_York:20240926T130000
END:VEVENT
END:VCALENDAR